View In:
ArcGIS JavaScript
ArcGIS Online Map Viewer
ArcGIS Earth
Service Description: TEST_DSM_NEW
Name: TEST_DSM_NEW
Description:
Single Fused Map Cache: false
Extent:
XMin: 408356.10474143736
YMin: 4196565.13322247
XMax: 412986.28729051416
YMax: 4200823.733222472
Spatial Reference: 0
(0)
LatestVCSWkid(0)
Initial Extent:
XMin: 408356.10474143736
YMin: 4196565.13322247
XMax: 412986.28729051416
YMax: 4200823.733222472
Spatial Reference: 0
(0)
LatestVCSWkid(0)
Full Extent:
XMin: 408356.10474143736
YMin: 4196565.13322247
XMax: 412986.28729051416
YMax: 4200823.733222472
Spatial Reference: 0
(0)
LatestVCSWkid(0)
Pixel Size X: 0.1999906076829991
Pixel Size Y: 0.19999060768298535
Band Count: 1
Pixel Type: F32
RasterFunction Infos: {"rasterFunctionInfos": [{
"name": "None",
"description": "",
"help": ""
}]}
Mensuration Capabilities: Basic
Inspection Capabilities:
Has Histograms: false
Has Colormap: false
Has Multi Dimensions : false
Rendering Rule:
Min Scale: 0
Max Scale: 0
Copyright Text:
Service Data Type: esriImageServiceDataTypeGeneric
Min Values: 1.4402673514268827E-5
Max Values: 98.41419219970703
Mean Values: 37.21749669798722
Standard Deviation Values: 24.528665736299942
Object ID Field:
Fields:
None
Default Mosaic Method: Center
Allowed Mosaic Methods:
SortField:
SortValue: null
Mosaic Operator: First
Default Compression Quality: 75
Default Resampling Method: Bilinear
Max Record Count: null
Max Image Height: 4100
Max Image Width: 15000
Max Download Image Count: null
Max Mosaic Image Count: null
Allow Raster Function: true
Allow Copy: true
Allow Analysis: true
Allow Compute TiePoints: false
Supports Statistics: false
Supports Advanced Queries: false
Use StandardizedQueries: true
Raster Type Infos:
Name: Raster Dataset
Description: Supports all ArcGIS Raster Datasets
Help:
Has Raster Attribute Table: false
Edit Fields Info: null
Ownership Based AccessControl For Rasters: null
Child Resources:
Info
Statistics
Key Properties
Legend
Raster Function Infos
Supported Operations:
Export Image
Identify
Measure
Compute Histograms
Compute Statistics Histograms
Get Samples
Compute Class Statistics
Query Boundary
Compute Pixel Location
Compute Angles
Validate
Project